BEGIN:VCALENDAR
VERSION:2.0
PRODID:-//中華藝術學校 - 高中部 - ECPv6.15.14//NONSGML v1.0//EN
CALSCALE:GREGORIAN
METHOD:PUBLISH
X-ORIGINAL-URL:https://web.charts.kh.edu.tw/hs
X-WR-CALDESC:中華藝術學校 - 高中部的活动
REFRESH-INTERVAL;VALUE=DURATION:PT1H
X-Robots-Tag:noindex
X-PUBLISHED-TTL:PT1H
BEGIN:VTIMEZONE
TZID:Asia/Taipei
BEGIN:STANDARD
TZOFFSETFROM:+0800
TZOFFSETTO:+0800
TZNAME:CST
DTSTART:20250101T000000
END:STANDARD
END:VTIMEZONE
BEGIN:VEVENT
DTSTART;VALUE=DATE:20260408
DTEND;VALUE=DATE:20260521
DTSTAMP:20260426T075619
CREATED:20260422T071228Z
LAST-MODIFIED:20260422T071228Z
UID:2378-1775606400-1779321599@web.charts.kh.edu.tw
SUMMARY:2026春季展演系列- 藝起嗨「春日藝趣」部定、美語、藝術與人文教學成果展
DESCRIPTION:展期4月8日至5月20日 \n本校北校區藝術風景盒
URL:https://web.charts.kh.edu.tw/hs/event/2026%e6%98%a5%e5%ad%a3%e5%b1%95%e6%bc%94%e7%b3%bb%e5%88%97-%e8%97%9d%e8%b5%b7%e5%97%a8%e3%80%8c%e6%98%a5%e6%97%a5%e8%97%9d%e8%b6%a3%e3%80%8d%e9%83%a8%e5%ae%9a%e3%80%81%e7%be%8e%e8%aa%9e%e3%80%81/
CATEGORIES:研發
END:VEVENT
BEGIN:VEVENT
DTSTART;VALUE=DATE:20260417
DTEND;VALUE=DATE:20260429
DTSTAMP:20260426T075619
CREATED:20260422T065434Z
LAST-MODIFIED:20260422T101956Z
UID:2369-1776384000-1777420799@web.charts.kh.edu.tw
SUMMARY:2026春季展演系列- 藝起嗨「光起創新藝」時尚工藝展
DESCRIPTION:展期：4月17日至4月28日 \n高雄市文化中心 至真堂二館
URL:https://web.charts.kh.edu.tw/hs/event/2026%e6%98%a5%e5%ad%a3%e5%b1%95%e6%bc%94%e7%b3%bb%e5%88%97-%e8%97%9d%e8%b5%b7%e5%97%a8%e6%98%a5%e8%97%9d%e5%95%9f%e7%a8%8b%e9%9d%92%e6%98%a5%e7%be%8e%e5%b1%95/
CATEGORIES:研發
END:VEVENT
BEGIN:VEVENT
DTSTART;VALUE=DATE:20260417
DTEND;VALUE=DATE:20260429
DTSTAMP:20260426T075619
CREATED:20260422T073140Z
LAST-MODIFIED:20260422T091737Z
UID:2375-1776384000-1777420799@web.charts.kh.edu.tw
SUMMARY:2026春季展演系列- 藝起嗨「春藝啟程」青春美展
DESCRIPTION:
URL:https://web.charts.kh.edu.tw/hs/event/2026%e6%98%a5%e5%ad%a3%e5%b1%95%e6%bc%94%e7%b3%bb%e5%88%97-%e8%97%9d%e8%b5%b7%e5%97%a8%e3%80%8c%e6%98%a5%e8%97%9d%e5%95%9f%e7%a8%8b%e3%80%8d%e9%9d%92%e6%98%a5%e7%be%8e%e5%b1%95/
CATEGORIES:研發
END:VEVENT
END:VCALENDAR